BEGIN:VCALENDAR
VERSION:2.0
PRODID:-//Tukios.com/
BEGIN:VEVENT
UID:d6155160-9c2e-4db0-a496-3c08044cd9bf@www.michaelsonfuneral.com
DTSTAMP:20260424T221927Z
DTSTART:20260515T153000Z
DTEND:20260515T170000Z
SUMMARY:Visitation
DESCRIPTION:
URL:https://www.michaelsonfuneral.com/obituaries/gregory-von-ruden
LOCATION: 1930 Austin Road  Owatonna MN 55060
GEO:44.0642715;-93.2171704
END:VEVENT
END:VCALENDAR