BEGIN:VCALENDAR
VERSION:2.0
PRODID:-//Tukios.com/
BEGIN:VEVENT
UID:0789e506-664a-4692-a913-f38cd42b0b5b@www.michaelsonfuneral.com
DTSTAMP:20260424T222902Z
DTSTART:20260515T170000Z
DTEND:20260515T173000Z
SUMMARY:Memorial Service
DESCRIPTION:
URL:https://www.michaelsonfuneral.com/obituaries/gregory-von-ruden
LOCATION: 1930 Austin Road  Owatonna MN 55060
GEO:44.0642715;-93.2171704
END:VEVENT
END:VCALENDAR