BEGIN:VCALENDAR
VERSION:2.0
PRODID:-//Tukios.com/
BEGIN:VEVENT
UID:a882b906-9067-4d3d-823f-92740089218c@www.michaelsonfuneral.com
DTSTAMP:20260421T013504Z
DTSTART:20260429T220000Z
DTEND:20260430T000000Z
SUMMARY:Visitation
DESCRIPTION:
URL:https://www.michaelsonfuneral.com/obituaries/james-berning-sr
LOCATION: 1930 Austin Road  Owatonna MN 55060
GEO:44.0642715;-93.2171704
END:VEVENT
END:VCALENDAR