BEGIN:VCALENDAR
VERSION:2.0
PRODID:-//Tukios.com/
BEGIN:VEVENT
UID:92ff1f7f-50a9-408e-9fe1-b724c5a2a8df@www.michaelsonfuneral.com
DTSTAMP:20260421T012910Z
DTSTART:20260430T150000Z
DTEND:20260430T160000Z
SUMMARY:Visitation
DESCRIPTION:
URL:https://www.michaelsonfuneral.com/obituaries/james-berning-sr
LOCATION: 810 S Cedar Ave  Owatonna MN 55060
GEO:44.0771523;-93.2269067
END:VEVENT
END:VCALENDAR