BEGIN:VCALENDAR
VERSION:2.0
PRODID:-//Tukios.com/
BEGIN:VEVENT
UID:8bde2d78-be4c-44d9-b69b-3bf017fe8a8b@www.michaelsonfuneral.com
DTSTAMP:20260421T013231Z
DTSTART:20260430T160000Z
DTEND:20260430T170000Z
SUMMARY:Mass
DESCRIPTION:
URL:https://www.michaelsonfuneral.com/obituaries/james-berning-sr
LOCATION: 810 S Cedar Ave  Owatonna MN 55060
GEO:44.0771523;-93.2269067
END:VEVENT
END:VCALENDAR